BEGIN:VCALENDAR
VERSION:2.0
PRODID:-//Portail Officiel de la Ville de Lesparre-Médoc - ECPv6.15.20//NONSGML v1.0//EN
CALSCALE:GREGORIAN
METHOD:PUBLISH
X-ORIGINAL-URL:https://www.lesparre-medoc.fr
X-WR-CALDESC:Évènements pour Portail Officiel de la Ville de Lesparre-Médoc
REFRESH-INTERVAL;VALUE=DURATION:PT1H
X-Robots-Tag:noindex
X-PUBLISHED-TTL:PT1H
BEGIN:VTIMEZONE
TZID:Europe/Paris
BEGIN:DAYLIGHT
TZOFFSETFROM:+0100
TZOFFSETTO:+0200
TZNAME:CEST
DTSTART:20240331T010000
END:DAYLIGHT
BEGIN:STANDARD
TZOFFSETFROM:+0200
TZOFFSETTO:+0100
TZNAME:CET
DTSTART:20241027T010000
END:STANDARD
BEGIN:DAYLIGHT
TZOFFSETFROM:+0100
TZOFFSETTO:+0200
TZNAME:CEST
DTSTART:20250330T010000
END:DAYLIGHT
BEGIN:STANDARD
TZOFFSETFROM:+0200
TZOFFSETTO:+0100
TZNAME:CET
DTSTART:20251026T010000
END:STANDARD
BEGIN:DAYLIGHT
TZOFFSETFROM:+0100
TZOFFSETTO:+0200
TZNAME:CEST
DTSTART:20260329T010000
END:DAYLIGHT
BEGIN:STANDARD
TZOFFSETFROM:+0200
TZOFFSETTO:+0100
TZNAME:CET
DTSTART:20261025T010000
END:STANDARD
END:VTIMEZONE
BEGIN:VEVENT
DTSTART;TZID=Europe/Paris:20250318T140000
DTEND;TZID=Europe/Paris:20250318T160000
DTSTAMP:20260424T060211
CREATED:20250304T143021Z
LAST-MODIFIED:20250304T143021Z
UID:28360-1742306400-1742313600@www.lesparre-medoc.fr
SUMMARY:Travailler dans la fonction publique territoriale
DESCRIPTION:LESPARRE-MÉDOC – SALLE DU CONSEIL (extérieur Mairie) \nMardi 18 Mars 2025 de 14h à 16h
URL:https://www.lesparre-medoc.fr/evenement/travailler-dans-la-fonction-publique-territoriale/
LOCATION:Salle du Conseil Municipal (extérieur Mairie)\, 37 Cours du Maréchal de Lattre de Tassigny\, Lesparre Médoc\, Gironde\, 33340\, France
CATEGORIES:emploi
ATTACH;FMTTYPE=image/jpeg:https://medias.lesparre-medoc.fr/RS-NA-Quizaine-de-l39emploi_Generique-scaled.jpg
END:VEVENT
BEGIN:VEVENT
DTSTART;TZID=Europe/Paris:20250318T183000
DTEND;TZID=Europe/Paris:20250318T183000
DTSTAMP:20260424T060211
CREATED:20250311T144950Z
LAST-MODIFIED:20250311T145551Z
UID:28467-1742322600-1742322600@www.lesparre-medoc.fr
SUMMARY:Concertation du Public - Projet de ligne électrique souterraine
DESCRIPTION:RTE\, Réseau de transport d’électricité\, organise\, du 18 mars au 30 mai 2025 inclus\, une concertation préalable du public dans le cadre du projet GiLA – Nouvel axe électrique de la façade atlantique.  \nLe projet consiste en la création d’un axe électrique à 320 000 volts\, sous-marin et souterrain\, en courant continu entre la Gironde et la Loire-Atlantique. Il a vocation à accompagner la transition énergétique en améliorant les capacités d’échanges d’électricité et en facilitant le raccordement de futurs parcs éoliens en mer. \n  \nRéunion publique à Lesparre\nMardi 18 MARS à 18h30\nEspace François Mitterrand \nPour en savoir plus\, le site de la concertation www.rte-france.com/gila donne accès aux informations relatives au projet et aux modalités de concertation du public. Il sera régulièrement mis à jour pour rendre compte du déroulement de la concertation. \n  \n  \n 
URL:https://www.lesparre-medoc.fr/evenement/concertation-du-public-projet-de-ligne-electrique-souterraine/
LOCATION:Espace François Mitterrand\, Place Gambetta\, LESPARRE-MEDOC\, 33340
CATEGORIES:Concertation du Public
ATTACH;FMTTYPE=image/jpeg:https://medias.lesparre-medoc.fr/2309_RTE-Gila-Publications_X-BAT.jpg
END:VEVENT
END:VCALENDAR