BEGIN:VCALENDAR
VERSION:2.0
PRODID:-//Portail Officiel de la Ville de Lesparre-Médoc - ECPv6.15.20//NONSGML v1.0//EN
CALSCALE:GREGORIAN
METHOD:PUBLISH
X-WR-CALNAME:Portail Officiel de la Ville de Lesparre-Médoc
X-ORIGINAL-URL:https://www.lesparre-medoc.fr
X-WR-CALDESC:Évènements pour Portail Officiel de la Ville de Lesparre-Médoc
REFRESH-INTERVAL;VALUE=DURATION:PT1H
X-Robots-Tag:noindex
X-PUBLISHED-TTL:PT1H
BEGIN:VTIMEZONE
TZID:Europe/Paris
BEGIN:DAYLIGHT
TZOFFSETFROM:+0100
TZOFFSETTO:+0200
TZNAME:CEST
DTSTART:20240331T010000
END:DAYLIGHT
BEGIN:STANDARD
TZOFFSETFROM:+0200
TZOFFSETTO:+0100
TZNAME:CET
DTSTART:20241027T010000
END:STANDARD
BEGIN:DAYLIGHT
TZOFFSETFROM:+0100
TZOFFSETTO:+0200
TZNAME:CEST
DTSTART:20250330T010000
END:DAYLIGHT
BEGIN:STANDARD
TZOFFSETFROM:+0200
TZOFFSETTO:+0100
TZNAME:CET
DTSTART:20251026T010000
END:STANDARD
BEGIN:DAYLIGHT
TZOFFSETFROM:+0100
TZOFFSETTO:+0200
TZNAME:CEST
DTSTART:20260329T010000
END:DAYLIGHT
BEGIN:STANDARD
TZOFFSETFROM:+0200
TZOFFSETTO:+0100
TZNAME:CET
DTSTART:20261025T010000
END:STANDARD
END:VTIMEZONE
BEGIN:VEVENT
DTSTART;TZID=Europe/Paris:20250322T090000
DTEND;TZID=Europe/Paris:20250323T180000
DTSTAMP:20260424T055943
CREATED:20250320T085547Z
LAST-MODIFIED:20250320T085547Z
UID:28571-1742634000-1742752800@www.lesparre-medoc.fr
SUMMARY:Marché des créateurs - Brocante\, vide grenier
DESCRIPTION:
URL:https://www.lesparre-medoc.fr/evenement/marche-des-createurs-brocante-vide-grenier/
LOCATION:Salle des fêtes Saint Trélody\, Rue Jean Fourment\, Lesparre Médoc\, Gironde\, 33340\, France
CATEGORIES:Brocante,Marché,Vide grenier
ATTACH;FMTTYPE=image/jpeg:https://medias.lesparre-medoc.fr/affiche-marche-des-createurs-22-et-23-mars-2025-Bandeau.jpg
END:VEVENT
BEGIN:VEVENT
DTSTART;TZID=Europe/Paris:20250322T113000
DTEND;TZID=Europe/Paris:20250322T113000
DTSTAMP:20260424T055943
CREATED:20250228T085653Z
LAST-MODIFIED:20250228T110813Z
UID:28217-1742643000-1742643000@www.lesparre-medoc.fr
SUMMARY:Incise littéraire - Laurent Potreau
DESCRIPTION:
URL:https://www.lesparre-medoc.fr/evenement/incise-litteraire-laurent-potreau/
LOCATION:Bibliothèque de Lesparre\, 25 Rue Jean Jacques Rousseau\, Lesparre-Médoc\, 33340\, France
CATEGORIES:Poésie
ATTACH;FMTTYPE=image/jpeg:https://medias.lesparre-medoc.fr/LPV-221-1-scaled.jpg
ORGANIZER;CN="Biblioth%C3%A8que Lesparre-M%C3%A9doc":MAILTO:bibli.lesparre@gmail.com
END:VEVENT
BEGIN:VEVENT
DTSTART;TZID=Europe/Paris:20250322T150000
DTEND;TZID=Europe/Paris:20250322T150000
DTSTAMP:20260424T055943
CREATED:20250228T103858Z
LAST-MODIFIED:20250228T110726Z
UID:28256-1742655600-1742655600@www.lesparre-medoc.fr
SUMMARY:Goûter concert - Super Ego
DESCRIPTION:
URL:https://www.lesparre-medoc.fr/evenement/gouter-concert-super-ego/
LOCATION:CALM\, 7 rue de Gramont\, LESPARRE MEDOC\, Gironde\, 33340\, France
CATEGORIES:Concert,Jeunesse
ATTACH;FMTTYPE=image/jpeg:https://medias.lesparre-medoc.fr/SUPER-EGO_1-1-scaled.jpg
ORGANIZER;CN="CALM - Centre d'Animations Lesparre-M%C3%A9doc":MAILTO:lecalm33340@gmail.com
END:VEVENT
END:VCALENDAR