BEGIN:VCALENDAR
VERSION:2.0
PRODID:-//Portail Officiel de la Ville de Lesparre-Médoc - ECPv6.15.20//NONSGML v1.0//EN
CALSCALE:GREGORIAN
METHOD:PUBLISH
X-WR-CALNAME:Portail Officiel de la Ville de Lesparre-Médoc
X-ORIGINAL-URL:https://www.lesparre-medoc.fr
X-WR-CALDESC:Évènements pour Portail Officiel de la Ville de Lesparre-Médoc
REFRESH-INTERVAL;VALUE=DURATION:PT1H
X-Robots-Tag:noindex
X-PUBLISHED-TTL:PT1H
BEGIN:VTIMEZONE
TZID:Europe/Paris
BEGIN:DAYLIGHT
TZOFFSETFROM:+0100
TZOFFSETTO:+0200
TZNAME:CEST
DTSTART:20240331T010000
END:DAYLIGHT
BEGIN:STANDARD
TZOFFSETFROM:+0200
TZOFFSETTO:+0100
TZNAME:CET
DTSTART:20241027T010000
END:STANDARD
BEGIN:DAYLIGHT
TZOFFSETFROM:+0100
TZOFFSETTO:+0200
TZNAME:CEST
DTSTART:20250330T010000
END:DAYLIGHT
BEGIN:STANDARD
TZOFFSETFROM:+0200
TZOFFSETTO:+0100
TZNAME:CET
DTSTART:20251026T010000
END:STANDARD
BEGIN:DAYLIGHT
TZOFFSETFROM:+0100
TZOFFSETTO:+0200
TZNAME:CEST
DTSTART:20260329T010000
END:DAYLIGHT
BEGIN:STANDARD
TZOFFSETFROM:+0200
TZOFFSETTO:+0100
TZNAME:CET
DTSTART:20261025T010000
END:STANDARD
END:VTIMEZONE
BEGIN:VEVENT
DTSTART;TZID=Europe/Paris:20250622T150000
DTEND;TZID=Europe/Paris:20250622T150000
DTSTAMP:20260424T014110
CREATED:20250422T131956Z
LAST-MODIFIED:20250506T133437Z
UID:28864-1750604400-1750604400@www.lesparre-medoc.fr
SUMMARY:Danse\, Rire et Chanson
DESCRIPTION:
URL:https://www.lesparre-medoc.fr/evenement/danse-rire-et-chanson/
LOCATION:Espace François Mitterrand\, Place Gambetta\, LESPARRE-MEDOC\, 33340
CATEGORIES:Spectacle
ATTACH;FMTTYPE=image/jpeg:https://medias.lesparre-medoc.fr/Danse-Rire-Chansons-2025-Bandeau.jpg
END:VEVENT
END:VCALENDAR