BEGIN:VCALENDAR
VERSION:2.0
PRODID:-//Portail Officiel de la Ville de Lesparre-Médoc - ECPv6.15.20//NONSGML v1.0//EN
CALSCALE:GREGORIAN
METHOD:PUBLISH
X-WR-CALNAME:Portail Officiel de la Ville de Lesparre-Médoc
X-ORIGINAL-URL:https://www.lesparre-medoc.fr
X-WR-CALDESC:Évènements pour Portail Officiel de la Ville de Lesparre-Médoc
REFRESH-INTERVAL;VALUE=DURATION:PT1H
X-Robots-Tag:noindex
X-PUBLISHED-TTL:PT1H
BEGIN:VTIMEZONE
TZID:Europe/Paris
BEGIN:DAYLIGHT
TZOFFSETFROM:+0100
TZOFFSETTO:+0200
TZNAME:CEST
DTSTART:20240331T010000
END:DAYLIGHT
BEGIN:STANDARD
TZOFFSETFROM:+0200
TZOFFSETTO:+0100
TZNAME:CET
DTSTART:20241027T010000
END:STANDARD
BEGIN:DAYLIGHT
TZOFFSETFROM:+0100
TZOFFSETTO:+0200
TZNAME:CEST
DTSTART:20250330T010000
END:DAYLIGHT
BEGIN:STANDARD
TZOFFSETFROM:+0200
TZOFFSETTO:+0100
TZNAME:CET
DTSTART:20251026T010000
END:STANDARD
BEGIN:DAYLIGHT
TZOFFSETFROM:+0100
TZOFFSETTO:+0200
TZNAME:CEST
DTSTART:20260329T010000
END:DAYLIGHT
BEGIN:STANDARD
TZOFFSETFROM:+0200
TZOFFSETTO:+0100
TZNAME:CET
DTSTART:20261025T010000
END:STANDARD
END:VTIMEZONE
BEGIN:VEVENT
DTSTART;TZID=Europe/Paris:20251004T100000
DTEND;TZID=Europe/Paris:20251004T140000
DTSTAMP:20260424T021418
CREATED:20250930T125448Z
LAST-MODIFIED:20250930T125448Z
UID:30453-1759572000-1759586400@www.lesparre-medoc.fr
SUMMARY:Vente de livres d'occasion à la bibliothèque
DESCRIPTION:
URL:https://www.lesparre-medoc.fr/evenement/vente-de-livres-doccasion-a-la-bibliotheque/
LOCATION:Bibliothèque de Lesparre\, 25 Rue Jean Jacques Rousseau\, Lesparre-Médoc\, 33340\, France
CATEGORIES:Braderie
ATTACH;FMTTYPE=image/jpeg:https://medias.lesparre-medoc.fr/photo-vente-de-livre-brochure.jpg
ORGANIZER;CN="Biblioth%C3%A8que Lesparre-M%C3%A9doc":MAILTO:bibli.lesparre@gmail.com
END:VEVENT
END:VCALENDAR