BEGIN:VCALENDAR
VERSION:2.0
PRODID:-//Portail Officiel de la Ville de Lesparre-Médoc - ECPv6.15.20//NONSGML v1.0//EN
CALSCALE:GREGORIAN
METHOD:PUBLISH
X-ORIGINAL-URL:https://www.lesparre-medoc.fr
X-WR-CALDESC:Évènements pour Portail Officiel de la Ville de Lesparre-Médoc
REFRESH-INTERVAL;VALUE=DURATION:PT1H
X-Robots-Tag:noindex
X-PUBLISHED-TTL:PT1H
BEGIN:VTIMEZONE
TZID:Europe/Paris
BEGIN:DAYLIGHT
TZOFFSETFROM:+0100
TZOFFSETTO:+0200
TZNAME:CEST
DTSTART:20240331T010000
END:DAYLIGHT
BEGIN:STANDARD
TZOFFSETFROM:+0200
TZOFFSETTO:+0100
TZNAME:CET
DTSTART:20241027T010000
END:STANDARD
BEGIN:DAYLIGHT
TZOFFSETFROM:+0100
TZOFFSETTO:+0200
TZNAME:CEST
DTSTART:20250330T010000
END:DAYLIGHT
BEGIN:STANDARD
TZOFFSETFROM:+0200
TZOFFSETTO:+0100
TZNAME:CET
DTSTART:20251026T010000
END:STANDARD
BEGIN:DAYLIGHT
TZOFFSETFROM:+0100
TZOFFSETTO:+0200
TZNAME:CEST
DTSTART:20260329T010000
END:DAYLIGHT
BEGIN:STANDARD
TZOFFSETFROM:+0200
TZOFFSETTO:+0100
TZNAME:CET
DTSTART:20261025T010000
END:STANDARD
BEGIN:DAYLIGHT
TZOFFSETFROM:+0100
TZOFFSETTO:+0200
TZNAME:CEST
DTSTART:20270328T010000
END:DAYLIGHT
BEGIN:STANDARD
TZOFFSETFROM:+0200
TZOFFSETTO:+0100
TZNAME:CET
DTSTART:20271031T010000
END:STANDARD
END:VTIMEZONE
BEGIN:VEVENT
DTSTART;TZID=Europe/Paris:20260419T083000
DTEND;TZID=Europe/Paris:20260419T083000
DTSTAMP:20260423T105903
CREATED:20260324T144058Z
LAST-MODIFIED:20260324T144157Z
UID:32076-1776587400-1776587400@www.lesparre-medoc.fr
SUMMARY:Lespar'Run 2026
DESCRIPTION:
URL:https://www.lesparre-medoc.fr/evenement/lesparrun-2026/
CATEGORIES:Sport
ATTACH;FMTTYPE=image/png:https://medias.lesparre-medoc.fr/Affiche-Lespar-run-2026-Bandeau.png
END:VEVENT
BEGIN:VEVENT
DTSTART;TZID=Europe/Paris:20260403T193000
DTEND;TZID=Europe/Paris:20260403T193000
DTSTAMP:20260423T105903
CREATED:20260324T142243Z
LAST-MODIFIED:20260324T142826Z
UID:32060-1775244600-1775244600@www.lesparre-medoc.fr
SUMMARY:Concert & Tapas « Granny Smith »
DESCRIPTION:
URL:https://www.lesparre-medoc.fr/evenement/concert-tapas-granny-smith/
LOCATION:CALM\, 7 rue de Gramont\, LESPARRE MEDOC\, Gironde\, 33340\, France
CATEGORIES:Concert
ATTACH;FMTTYPE=image/jpeg:https://medias.lesparre-medoc.fr/GRANNYSMITH-FULL-BAND-scaled.jpg
END:VEVENT
BEGIN:VEVENT
DTSTART;VALUE=DATE:20260322
DTEND;VALUE=DATE:20260326
DTSTAMP:20260423T105903
CREATED:20260302T090241Z
LAST-MODIFIED:20260324T075102Z
UID:31832-1774137600-1774483199@www.lesparre-medoc.fr
SUMMARY:Printemps du Cinéma 2026
DESCRIPTION:
URL:https://www.lesparre-medoc.fr/evenement/printemps-du-cinema-2026/
CATEGORIES:Cinéma
ATTACH;FMTTYPE=image/jpeg:https://medias.lesparre-medoc.fr/PRINTEMPS_CINE_26_AFFICHE_A4_PAYSAGE-scaled.jpg
END:VEVENT
BEGIN:VEVENT
DTSTART;TZID=Europe/Paris:20260304T090000
DTEND;TZID=Europe/Paris:20260304T090000
DTSTAMP:20260423T105903
CREATED:20260224T090419Z
LAST-MODIFIED:20260224T090419Z
UID:31784-1772614800-1772614800@www.lesparre-medoc.fr
SUMMARY:Laisse part à ses Dames 2026 (4ème Edition)
DESCRIPTION:
URL:https://www.lesparre-medoc.fr/evenement/laisse-part-a-ses-dames-2026-4eme-edition/
CATEGORIES:Rencontre,Sensibilisation,Sport
ATTACH;FMTTYPE=image/jpeg:https://medias.lesparre-medoc.fr/4eme-Edition-Laisse-part-a-ses-Dames-2026-Bandeau.jpg
END:VEVENT
BEGIN:VEVENT
DTSTART;TZID=Europe/Paris:20260224T143000
DTEND;TZID=Europe/Paris:20260224T163000
DTSTAMP:20260423T105903
CREATED:20260212T083941Z
LAST-MODIFIED:20260212T083941Z
UID:31417-1771943400-1771950600@www.lesparre-medoc.fr
SUMMARY:AAPAM – Plateau radio « Aidants : ne pas s’oublier »
DESCRIPTION:Dans le cadre des actions de soutien aux aidants du territoire\, l’AAPAM collabore avec l’association Bonjour les hirondelles pour l’organisation du plateau radio « Les bonnes ondes : l’émission des aidants » ouvert au public\, qui se tiendra à Lesparre. \n🎙️ Plateau radio – Enregistrement public\n📅 Mardi 24 février 2026\n⏰ 14h30 – 16h30\n📍 Salle du Conseil – Mairie de Lesparre\n🎟️ Gratuit – Accessible aux personnes à mobilité réduite \nCet évènement a pour objectif de donner la parole aux aidants et de valoriser les ressources existantes sur le territoire.\nL’enregistrement s’articulera autour de trois thématiques majeures : \n\nPrendre soin sans s’oublier\nRompre l’isolement\nFaire face aux difficultés financières\n\nAutour du micro interviendront des aidants\, des professionnels de santé et du médico-social ainsi que des associations locales. \nAfin de permettre au plus grand nombre d’y participer\, l’AAPAM peut soutenir les aidants qui souhaitent y assister (accompagnement ; répit). \nUn teaser audio de présentation est disponible\, ainsi qu’une page internet regroupant l’ensemble des informations pratiques et le replay qui sera mis en ligne après l’évènement :\n👉 [https://bit.ly/454cQ7P] \nhttps://www.facebook.com/p/Les-Bonnes-Ondes-l%C3%A9mission-radio-pour-les-aidants-61554891867293/
URL:https://www.lesparre-medoc.fr/evenement/aapam-plateau-radio-aidants-ne-pas-soublier/
CATEGORIES:Conférence,Sensibilisation
ATTACH;FMTTYPE=image/jpeg:https://medias.lesparre-medoc.fr/Flyer-LBO-MEDOC_bandeau.jpg
END:VEVENT
BEGIN:VEVENT
DTSTART;TZID=Europe/Paris:20260221T213000
DTEND;TZID=Europe/Paris:20260221T213000
DTSTAMP:20260423T105903
CREATED:20260203T125952Z
LAST-MODIFIED:20260217T095831Z
UID:31369-1771709400-1771709400@www.lesparre-medoc.fr
SUMMARY:THÉÂTRE DES CHARTRONS « Ados en vacances\, parents en souffrance » ANNULÉ
DESCRIPTION:
URL:https://www.lesparre-medoc.fr/evenement/theatre-des-chartrons-ados-en-vacances-parents-en-souffrance/
LOCATION:Espace François Mitterrand\, Place Gambetta\, LESPARRE-MEDOC\, 33340
CATEGORIES:Théâtre
ATTACH;FMTTYPE=image/jpeg:https://medias.lesparre-medoc.fr/Theatre_chartrons_Annule.jpg
END:VEVENT
BEGIN:VEVENT
DTSTART;TZID=Europe/Paris:20260207T203000
DTEND;TZID=Europe/Paris:20260207T203000
DTSTAMP:20260423T105903
CREATED:20260106T143252Z
LAST-MODIFIED:20260106T143420Z
UID:31191-1770496200-1770496200@www.lesparre-medoc.fr
SUMMARY:THÉÂTRE SALINIÈRES "Un monde merveilleux"
DESCRIPTION:
URL:https://www.lesparre-medoc.fr/evenement/theatre-salinieres-un-monde-merveilleux/
LOCATION:Espace François Mitterrand\, Place Gambetta\, LESPARRE-MEDOC\, 33340
CATEGORIES:Théâtre
ATTACH;FMTTYPE=image/jpeg:https://medias.lesparre-medoc.fr/UN-MONDE-MERVEILLEUX-BD_IA-scaled.jpg
END:VEVENT
BEGIN:VEVENT
DTSTART;TZID=Europe/Paris:20260203T100000
DTEND;TZID=Europe/Paris:20260203T160000
DTSTAMP:20260423T105903
CREATED:20260126T102941Z
LAST-MODIFIED:20260126T102941Z
UID:31319-1770112800-1770134400@www.lesparre-medoc.fr
SUMMARY:Le Bus en + (janvier/février)
DESCRIPTION:
URL:https://www.lesparre-medoc.fr/evenement/le-bus-en-janvier-fevrier/
CATEGORIES:Santé,Sensibilisation
ATTACH;FMTTYPE=image/jpeg:https://medias.lesparre-medoc.fr/Bus-en-plus_vignette.jpg
END:VEVENT
BEGIN:VEVENT
DTSTART;TZID=Europe/Paris:20260131T090000
DTEND;TZID=Europe/Paris:20260131T130000
DTSTAMP:20260423T105903
CREATED:20260120T140714Z
LAST-MODIFIED:20260120T140714Z
UID:31287-1769850000-1769864400@www.lesparre-medoc.fr
SUMMARY:MFR Journée portes ouvertes
DESCRIPTION: 
URL:https://www.lesparre-medoc.fr/evenement/mfr-journee-portes-ouvertes-janvier2026/
LOCATION:MFR (Maison Familiale Rurale)\, 34 bis rue lieutenant colonel Jean Lagarrigue\, Lesparre Médoc\, Gironde\, 33340\, France
CATEGORIES:Portes ouvertes
ATTACH;FMTTYPE=image/png:https://medias.lesparre-medoc.fr/lesparre-ocre-et-noir.png
END:VEVENT
BEGIN:VEVENT
DTSTART;TZID=Europe/Paris:20260124T160000
DTEND;TZID=Europe/Paris:20260124T190000
DTSTAMP:20260423T105903
CREATED:20260102T091346Z
LAST-MODIFIED:20260102T091346Z
UID:31177-1769270400-1769281200@www.lesparre-medoc.fr
SUMMARY:Nuit de la lecture
DESCRIPTION:
URL:https://www.lesparre-medoc.fr/evenement/nuit-de-la-lecture/
LOCATION:Bibliothèque de Lesparre\, 25 Rue Jean Jacques Rousseau\, Lesparre-Médoc\, 33340\, France
CATEGORIES:Concert,Poésie
ATTACH;FMTTYPE=image/jpeg:https://medias.lesparre-medoc.fr/Montage-photos-obliques-NB_Affiche-scaled.jpg
END:VEVENT
BEGIN:VEVENT
DTSTART;TZID=Europe/Paris:20260121T093000
DTEND;TZID=Europe/Paris:20260121T120000
DTSTAMP:20260423T105903
CREATED:20260120T085458Z
LAST-MODIFIED:20260120T085458Z
UID:31264-1768987800-1768996800@www.lesparre-medoc.fr
SUMMARY:Forum des métiers de la Défense
DESCRIPTION:
URL:https://www.lesparre-medoc.fr/evenement/forum-des-metiers-de-la-defense/
LOCATION:Espace François Mitterrand\, Place Gambetta\, LESPARRE-MEDOC\, 33340
CATEGORIES:emploi
ATTACH;FMTTYPE=image/jpeg:https://medias.lesparre-medoc.fr/Foum-metiers-Defense-2026.jpg
END:VEVENT
BEGIN:VEVENT
DTSTART;TZID=Europe/Paris:20260116T190000
DTEND;TZID=Europe/Paris:20260116T190000
DTSTAMP:20260423T105903
CREATED:20260106T140340Z
LAST-MODIFIED:20260106T140548Z
UID:31188-1768590000-1768590000@www.lesparre-medoc.fr
SUMMARY:Vœux à la population
DESCRIPTION:
URL:https://www.lesparre-medoc.fr/evenement/voeux-a-la-population/
LOCATION:Espace François Mitterrand\, Place Gambetta\, LESPARRE-MEDOC\, 33340
CATEGORIES:Cérémonie
ATTACH;FMTTYPE=image/jpeg:https://medias.lesparre-medoc.fr/Carte-de-Voeux-2026.jpg
ORGANIZER;CN="Mairie de Lesparre-M%C3%A9doc":MAILTO:lecalm33340@gmail.com
END:VEVENT
BEGIN:VEVENT
DTSTART;TZID=Europe/Paris:20260110T193000
DTEND;TZID=Europe/Paris:20260110T193000
DTSTAMP:20260423T105903
CREATED:20260102T090456Z
LAST-MODIFIED:20260106T142850Z
UID:31167-1768073400-1768073400@www.lesparre-medoc.fr
SUMMARY:Vernissage et concert du nouvel an
DESCRIPTION:
URL:https://www.lesparre-medoc.fr/evenement/vernissage-et-concert-du-nouvel-an/
LOCATION:CALM\, 7 rue de Gramont\, LESPARRE MEDOC\, Gironde\, 33340\, France
CATEGORIES:Concert
ATTACH;FMTTYPE=image/jpeg:https://medias.lesparre-medoc.fr/CrazyDollsandTheBollocks-2-Copie.jpg
END:VEVENT
BEGIN:VEVENT
DTSTART;VALUE=DATE:20260108
DTEND;VALUE=DATE:20260121
DTSTAMP:20260423T105903
CREATED:20260102T090843Z
LAST-MODIFIED:20260102T090926Z
UID:31172-1767830400-1768953599@www.lesparre-medoc.fr
SUMMARY:Expos d'œuvres contemporaines
DESCRIPTION:
URL:https://www.lesparre-medoc.fr/evenement/expose-doeuvres-contemporaines/
LOCATION:Bibliothèque & CALM
CATEGORIES:Exposition
ATTACH;FMTTYPE=image/png:https://medias.lesparre-medoc.fr/Tableau_jim_shaw-Copie.png
END:VEVENT
BEGIN:VEVENT
DTSTART;VALUE=DATE:20251213
DTEND;VALUE=DATE:20251215
DTSTAMP:20260423T105903
CREATED:20251128T093521Z
LAST-MODIFIED:20251128T093521Z
UID:30911-1765584000-1765756799@www.lesparre-medoc.fr
SUMMARY:Marché de Noël - Zone de Belloc
DESCRIPTION:Screenshot
URL:https://www.lesparre-medoc.fr/evenement/marche-de-noel-zone-de-belloc/
CATEGORIES:Marché
ATTACH;FMTTYPE=image/jpeg:https://medias.lesparre-medoc.fr/Affiche-marche-de-noel-2025-PQAVM-Bandeau.jpeg
END:VEVENT
BEGIN:VEVENT
DTSTART;VALUE=DATE:20251206
DTEND;VALUE=DATE:20251208
DTSTAMP:20260423T105903
CREATED:20251128T094238Z
LAST-MODIFIED:20251128T094238Z
UID:30920-1764979200-1765151999@www.lesparre-medoc.fr
SUMMARY:Marché de Noël - LLCC
DESCRIPTION:
URL:https://www.lesparre-medoc.fr/evenement/marche-de-noel-llcc/
CATEGORIES:Marché
ATTACH;FMTTYPE=image/png:https://medias.lesparre-medoc.fr/Marche-Noel-LLCC-2025-Bandeau.png
END:VEVENT
BEGIN:VEVENT
DTSTART;VALUE=DATE:20251206
DTEND;VALUE=DATE:20251208
DTSTAMP:20260423T105903
CREATED:20251128T093939Z
LAST-MODIFIED:20251128T093939Z
UID:30916-1764979200-1765151999@www.lesparre-medoc.fr
SUMMARY:Marché de Noël - Cœur de ville
DESCRIPTION:
URL:https://www.lesparre-medoc.fr/evenement/marche-de-noel-coeur-de-ville/
CATEGORIES:Marché
ATTACH;FMTTYPE=image/jpeg:https://medias.lesparre-medoc.fr/Marche-de-Noel-Amicale-Lesparre-2025-Bandeau.jpg
END:VEVENT
BEGIN:VEVENT
DTSTART;TZID=Europe/Paris:20251129T193000
DTEND;TZID=Europe/Paris:20251129T193000
DTSTAMP:20260423T105903
CREATED:20251021T142414Z
LAST-MODIFIED:20251021T142519Z
UID:30640-1764444600-1764444600@www.lesparre-medoc.fr
SUMMARY:Concert & Tapas "O c'est nous!"
DESCRIPTION:
URL:https://www.lesparre-medoc.fr/evenement/concert-tapas-o-cest-nous/
LOCATION:CALM\, 7 rue de Gramont\, LESPARRE MEDOC\, Gironde\, 33340\, France
CATEGORIES:Concert
ATTACH;FMTTYPE=image/jpeg:https://medias.lesparre-medoc.fr/3_O-C_EST-NOUS_A©Beneste-scaled.jpg
ORGANIZER;CN="CALM - Centre d'Animations Lesparre-M%C3%A9doc":MAILTO:lecalm33340@gmail.com
END:VEVENT
BEGIN:VEVENT
DTSTART;TZID=Europe/Paris:20251118T093000
DTEND;TZID=Europe/Paris:20251118T123000
DTSTAMP:20260423T105903
CREATED:20251114T103222Z
LAST-MODIFIED:20251114T103222Z
UID:30826-1763458200-1763469000@www.lesparre-medoc.fr
SUMMARY:Forum du handicap
DESCRIPTION:
URL:https://www.lesparre-medoc.fr/evenement/forum-du-handicap/
LOCATION:Espace François Mitterrand\, Place Gambetta\, LESPARRE-MEDOC\, 33340
ATTACH;FMTTYPE=image/jpeg:https://medias.lesparre-medoc.fr/Flyer-SEEPH-2025-Bandeau.jpg
END:VEVENT
BEGIN:VEVENT
DTSTART;TZID=Europe/Paris:20251115T203000
DTEND;TZID=Europe/Paris:20251115T203000
DTSTAMP:20260423T105903
CREATED:20251021T141913Z
LAST-MODIFIED:20251021T142057Z
UID:30636-1763238600-1763238600@www.lesparre-medoc.fr
SUMMARY:Théâtre des Chartrons "Fallait pas le dire!"
DESCRIPTION:
URL:https://www.lesparre-medoc.fr/evenement/theatre-des-chartrons-fallait-pas-le-dire/
LOCATION:Espace François Mitterrand\, Place Gambetta\, LESPARRE-MEDOC\, 33340
CATEGORIES:Théâtre
ATTACH;FMTTYPE=image/jpeg:https://medias.lesparre-medoc.fr/fallait-pas-le-dire.jpg
END:VEVENT
BEGIN:VEVENT
DTSTART;TZID=Europe/Paris:20251031T140000
DTEND;TZID=Europe/Paris:20251031T140000
DTSTAMP:20260423T105903
CREATED:20250930T132452Z
LAST-MODIFIED:20250930T132539Z
UID:30465-1761919200-1761919200@www.lesparre-medoc.fr
SUMMARY:Spectacle d'Halloween - "Baba Yaga\, un conte dansé et dessiné"
DESCRIPTION:
URL:https://www.lesparre-medoc.fr/evenement/spectacle-dhalloween-baba-yaga-un-conte-danse-et-dessine/
LOCATION:CALM\, 7 rue de Gramont\, LESPARRE MEDOC\, Gironde\, 33340\, France
CATEGORIES:halloween,Spectacle
ATTACH;FMTTYPE=image/jpeg:https://medias.lesparre-medoc.fr/©Christophe-Garbage-47_IA-scaled.jpg
ORGANIZER;CN="CALM - Centre d'Animations Lesparre-M%C3%A9doc":MAILTO:lecalm33340@gmail.com
END:VEVENT
BEGIN:VEVENT
DTSTART;VALUE=DATE:20251024
DTEND;VALUE=DATE:20251026
DTSTAMP:20260423T105903
CREATED:20250904T081119Z
LAST-MODIFIED:20250904T081119Z
UID:29930-1761264000-1761436799@www.lesparre-medoc.fr
SUMMARY:Festival Techno Arts Médoc
DESCRIPTION:
URL:https://www.lesparre-medoc.fr/evenement/festival-techno-arts-medoc/
LOCATION:CALM\, 7 rue de Gramont\, LESPARRE MEDOC\, Gironde\, 33340\, France
CATEGORIES:Jeunesse
ATTACH;FMTTYPE=image/png:https://medias.lesparre-medoc.fr/Techno-Arts-Medoc-Lesparre.png
END:VEVENT
BEGIN:VEVENT
DTSTART;TZID=Europe/Paris:20251020T203000
DTEND;TZID=Europe/Paris:20251020T203000
DTSTAMP:20260423T105903
CREATED:20251002T094919Z
LAST-MODIFIED:20251002T095008Z
UID:30483-1760992200-1760992200@www.lesparre-medoc.fr
SUMMARY:Balagna - Polyphonies corses
DESCRIPTION:
URL:https://www.lesparre-medoc.fr/evenement/balagna-polyphonies-corses/
LOCATION:Eglise Notre-Dame de L’Assomption\, Lesparre-Médoc\, 33340
CATEGORIES:Concert
ATTACH;FMTTYPE=image/jpeg:https://medias.lesparre-medoc.fr/Balagna-Bandeau-1.jpeg
END:VEVENT
BEGIN:VEVENT
DTSTART;TZID=Europe/Paris:20251019T143000
DTEND;TZID=Europe/Paris:20251019T143000
DTSTAMP:20260423T105903
CREATED:20250922T080841Z
LAST-MODIFIED:20250922T080926Z
UID:30088-1760884200-1760884200@www.lesparre-medoc.fr
SUMMARY:Top Models 2025
DESCRIPTION:
URL:https://www.lesparre-medoc.fr/evenement/top-models-2025/
LOCATION:Espace François Mitterrand\, Place Gambetta\, LESPARRE-MEDOC\, 33340
CATEGORIES:Spectacle
ATTACH;FMTTYPE=image/jpeg:https://medias.lesparre-medoc.fr/Top-Models-2025-Bandeau.jpg
END:VEVENT
BEGIN:VEVENT
DTSTART;TZID=Europe/Paris:20251016T093000
DTEND;TZID=Europe/Paris:20251016T170000
DTSTAMP:20260423T105903
CREATED:20251003T084133Z
LAST-MODIFIED:20251003T084133Z
UID:30501-1760607000-1760634000@www.lesparre-medoc.fr
SUMMARY:10ème édition de la Journée de l’Emploi AQUITEC à Bordeaux
DESCRIPTION:
URL:https://www.lesparre-medoc.fr/evenement/10eme-edition-de-la-journee-de-lemploi-aquitec-a-bordeaux/
CATEGORIES:emploi
ATTACH;FMTTYPE=image/png:https://medias.lesparre-medoc.fr/JE-600X200.png
END:VEVENT
BEGIN:VEVENT
DTSTART;VALUE=DATE:20251016
DTEND;VALUE=DATE:20251020
DTSTAMP:20260423T105903
CREATED:20250929T083504Z
LAST-MODIFIED:20250929T083504Z
UID:30437-1760572800-1760918399@www.lesparre-medoc.fr
SUMMARY:Festival Cinéma "La Terre du Milieu"
DESCRIPTION:
URL:https://www.lesparre-medoc.fr/evenement/festival-cinema-la-terre-du-milieu/
LOCATION:Cinéma Jean Dujardin\, 20 Rue du Palais de Justice\, Lesparre-Médoc\, 33340
CATEGORIES:Cinéma
ATTACH;FMTTYPE=image/jpeg:https://medias.lesparre-medoc.fr/Festival-Cinema-La-Terre-du-Milieu-2025-Bandeau.jpg
END:VEVENT
BEGIN:VEVENT
DTSTART;TZID=Europe/Paris:20251004T193000
DTEND;TZID=Europe/Paris:20251004T193000
DTSTAMP:20260423T105903
CREATED:20250930T125737Z
LAST-MODIFIED:20250930T125824Z
UID:30457-1759606200-1759606200@www.lesparre-medoc.fr
SUMMARY:Concert & Tapas "Malaka"
DESCRIPTION:
URL:https://www.lesparre-medoc.fr/evenement/concert-tapas-malaka/
LOCATION:CALM\, 7 rue de Gramont\, LESPARRE MEDOC\, Gironde\, 33340\, France
CATEGORIES:Concert
ATTACH;FMTTYPE=image/jpeg:https://medias.lesparre-medoc.fr/MALAKA-_-Credit-Anthony-Sion.jpg
ORGANIZER;CN="CALM - Centre d'Animations Lesparre-M%C3%A9doc":MAILTO:lecalm33340@gmail.com
END:VEVENT
BEGIN:VEVENT
DTSTART;TZID=Europe/Paris:20251004T173000
DTEND;TZID=Europe/Paris:20251004T173000
DTSTAMP:20260423T105903
CREATED:20250911T094857Z
LAST-MODIFIED:20250911T094941Z
UID:29969-1759599000-1759599000@www.lesparre-medoc.fr
SUMMARY:Marche Lespar'Rose 2025
DESCRIPTION:
URL:https://www.lesparre-medoc.fr/evenement/marche-lesparrose-2025/
CATEGORIES:Sensibilisation,Sport
ATTACH;FMTTYPE=image/jpeg:https://medias.lesparre-medoc.fr/Affiche-LesparRose-2025-Bandeau-scaled.jpg
END:VEVENT
BEGIN:VEVENT
DTSTART;TZID=Europe/Paris:20251004T100000
DTEND;TZID=Europe/Paris:20251004T140000
DTSTAMP:20260423T105903
CREATED:20250930T125448Z
LAST-MODIFIED:20250930T125448Z
UID:30453-1759572000-1759586400@www.lesparre-medoc.fr
SUMMARY:Vente de livres d'occasion à la bibliothèque
DESCRIPTION:
URL:https://www.lesparre-medoc.fr/evenement/vente-de-livres-doccasion-a-la-bibliotheque/
LOCATION:Bibliothèque de Lesparre\, 25 Rue Jean Jacques Rousseau\, Lesparre-Médoc\, 33340\, France
CATEGORIES:Braderie
ATTACH;FMTTYPE=image/jpeg:https://medias.lesparre-medoc.fr/photo-vente-de-livre-brochure.jpg
ORGANIZER;CN="Biblioth%C3%A8que Lesparre-M%C3%A9doc":MAILTO:bibli.lesparre@gmail.com
END:VEVENT
BEGIN:VEVENT
DTSTART;TZID=Europe/Paris:20251002T083000
DTEND;TZID=Europe/Paris:20251002T170000
DTSTAMP:20260423T105903
CREATED:20250916T130524Z
LAST-MODIFIED:20250916T130524Z
UID:30014-1759393800-1759424400@www.lesparre-medoc.fr
SUMMARY:Dis\, tu m'aides ?
DESCRIPTION:
URL:https://www.lesparre-medoc.fr/evenement/dis-tu-maides/
LOCATION:Espace François Mitterrand\, Place Gambetta\, LESPARRE-MEDOC\, 33340
ATTACH;FMTTYPE=image/jpeg:https://medias.lesparre-medoc.fr/Affiche-Dis-tu-maides_bandeau-scaled.jpg
END:VEVENT
END:VCALENDAR