BEGIN:VCALENDAR
VERSION:2.0
PRODID:-//Portail Officiel de la Ville de Lesparre-Médoc - ECPv6.15.20//NONSGML v1.0//EN
CALSCALE:GREGORIAN
METHOD:PUBLISH
X-ORIGINAL-URL:https://www.lesparre-medoc.fr
X-WR-CALDESC:Évènements pour Portail Officiel de la Ville de Lesparre-Médoc
REFRESH-INTERVAL;VALUE=DURATION:PT1H
X-Robots-Tag:noindex
X-PUBLISHED-TTL:PT1H
BEGIN:VTIMEZONE
TZID:Europe/Paris
BEGIN:DAYLIGHT
TZOFFSETFROM:+0100
TZOFFSETTO:+0200
TZNAME:CEST
DTSTART:20240331T010000
END:DAYLIGHT
BEGIN:STANDARD
TZOFFSETFROM:+0200
TZOFFSETTO:+0100
TZNAME:CET
DTSTART:20241027T010000
END:STANDARD
BEGIN:DAYLIGHT
TZOFFSETFROM:+0100
TZOFFSETTO:+0200
TZNAME:CEST
DTSTART:20250330T010000
END:DAYLIGHT
BEGIN:STANDARD
TZOFFSETFROM:+0200
TZOFFSETTO:+0100
TZNAME:CET
DTSTART:20251026T010000
END:STANDARD
BEGIN:DAYLIGHT
TZOFFSETFROM:+0100
TZOFFSETTO:+0200
TZNAME:CEST
DTSTART:20260329T010000
END:DAYLIGHT
BEGIN:STANDARD
TZOFFSETFROM:+0200
TZOFFSETTO:+0100
TZNAME:CET
DTSTART:20261025T010000
END:STANDARD
END:VTIMEZONE
BEGIN:VEVENT
DTSTART;VALUE=DATE:20250402
DTEND;VALUE=DATE:20250403
DTSTAMP:20260424T014142
CREATED:20250408T135703Z
LAST-MODIFIED:20250408T135744Z
UID:28696-1743552000-1743584400@www.lesparre-medoc.fr
SUMMARY:Exposition "Des étoiles dans les yeux"
DESCRIPTION:
URL:https://www.lesparre-medoc.fr/evenement/exposition-des-etoiles-dans-les-yeux/
LOCATION:Bibliothèque de Lesparre\, 25 Rue Jean Jacques Rousseau\, Lesparre-Médoc\, 33340\, France
CATEGORIES:Exposition
ATTACH;FMTTYPE=image/jpeg:https://medias.lesparre-medoc.fr/des-etoiles-dans-les-yeux.jpg
END:VEVENT
BEGIN:VEVENT
DTSTART;TZID=Europe/Paris:20250505T150000
DTEND;TZID=Europe/Paris:20250505T183000
DTSTAMP:20260424T014142
CREATED:20250422T130452Z
LAST-MODIFIED:20250422T130452Z
UID:28852-1746457200-1746469800@www.lesparre-medoc.fr
SUMMARY:Don du sang
DESCRIPTION:
URL:https://www.lesparre-medoc.fr/evenement/don-du-sang-2/
LOCATION:Salle des fêtes Saint Trélody\, Rue Jean Fourment\, Lesparre Médoc\, Gironde\, 33340\, France
CATEGORIES:Don du sang
ATTACH;FMTTYPE=image/png:https://medias.lesparre-medoc.fr/web_lesparre_bandeau-1.png
END:VEVENT
BEGIN:VEVENT
DTSTART;TZID=Europe/Paris:20250510T183000
DTEND;TZID=Europe/Paris:20250510T183000
DTSTAMP:20260424T014142
CREATED:20250429T140002Z
LAST-MODIFIED:20250429T140002Z
UID:28945-1746901800-1746901800@www.lesparre-medoc.fr
SUMMARY:Concert Opéra à l'Église de Lesparre
DESCRIPTION:  \nLisa Maria est une chanteuse d’opéra hourtinaise\, elle fait des concerts pour le village et dans le médoc\, donne des cours de chant\, dirige des chorales\, a crée son agence artistique et adore enchanter les oreilles des médocains ! \nNataliia est sa pianiste\, rencontrée cet été lors d’un concert à Lacanau\, et depuis ce jour elles ne se quittent plus ! Elles ont décidé de créer un duo qui s’appelle « L’espérance » \nC’est un nouveau programme avec quelques-uns de nos tubes\, et des nouveaux : Puccini\, Gounod\, opéra\, musique de film et comédie musicale… \nAu plaisir de vous y retrouver nombreux ! \nLisa et Nataliia \nEntrée : 10€
URL:https://www.lesparre-medoc.fr/evenement/concert-opera-a-leglise-de-lesparre/
LOCATION:Eglise Notre-Dame de L’Assomption\, Lesparre-Médoc\, 33340
CATEGORIES:Concert
ATTACH;FMTTYPE=image/jpeg:https://medias.lesparre-medoc.fr/Concert-Opera-Mai-2025-Bandeau.jpg
END:VEVENT
BEGIN:VEVENT
DTSTART;TZID=Europe/Paris:20250514T150000
DTEND;TZID=Europe/Paris:20250514T150000
DTSTAMP:20260424T014142
CREATED:20250408T140807Z
LAST-MODIFIED:20250408T140807Z
UID:28706-1747234800-1747234800@www.lesparre-medoc.fr
SUMMARY:C'est quoi un astronome ?
DESCRIPTION:
URL:https://www.lesparre-medoc.fr/evenement/cest-quoi-un-astronome/
LOCATION:Bibliothèque de Lesparre\, 25 Rue Jean Jacques Rousseau\, Lesparre-Médoc\, 33340\, France
CATEGORIES:Rencontre
ATTACH;FMTTYPE=image/webp:https://medias.lesparre-medoc.fr/rencontre-avec-des-scientifiques-page14_15.webp
END:VEVENT
BEGIN:VEVENT
DTSTART;TZID=Europe/Paris:20250516T140000
DTEND;TZID=Europe/Paris:20250516T170000
DTSTAMP:20260424T014142
CREATED:20250506T134345Z
LAST-MODIFIED:20250506T134345Z
UID:28982-1747404000-1747414800@www.lesparre-medoc.fr
SUMMARY:Conférence Maladie PARKINSON
DESCRIPTION:
URL:https://www.lesparre-medoc.fr/evenement/conference-maladie-parkinson/
LOCATION:Espace François Mitterrand\, Place Gambetta\, LESPARRE-MEDOC\, 33340
CATEGORIES:Conférence
ATTACH;FMTTYPE=image/jpeg:https://medias.lesparre-medoc.fr/logo-CCAS-scaled.jpg
END:VEVENT
BEGIN:VEVENT
DTSTART;TZID=Europe/Paris:20250517T090000
DTEND;TZID=Europe/Paris:20250517T130000
DTSTAMP:20260424T014142
CREATED:20250422T130725Z
LAST-MODIFIED:20250422T130725Z
UID:28856-1747472400-1747486800@www.lesparre-medoc.fr
SUMMARY:MFR - Journée Portes Ouvertes
DESCRIPTION:
URL:https://www.lesparre-medoc.fr/evenement/mfr-journee-portes-ouvertes-2/
LOCATION:MFR (Maison Familiale Rurale)\, 34 bis rue lieutenant colonel Jean Lagarrigue\, Lesparre Médoc\, Gironde\, 33340\, France
CATEGORIES:Portes ouvertes
ATTACH;FMTTYPE=image/png:https://medias.lesparre-medoc.fr/lesparre-ocre-et-noir.png
END:VEVENT
BEGIN:VEVENT
DTSTART;TZID=Europe/Paris:20250517T090000
DTEND;TZID=Europe/Paris:20250517T170000
DTSTAMP:20260424T014142
CREATED:20250509T075330Z
LAST-MODIFIED:20250509T075330Z
UID:29001-1747472400-1747501200@www.lesparre-medoc.fr
SUMMARY:Vide grenier des Amis de la Tour
DESCRIPTION:
URL:https://www.lesparre-medoc.fr/evenement/vide-grenier-des-amis-de-la-tour/
LOCATION:Tour de l’Honneur\, 17 Rue Pierre Curie\, Lesparre Médoc\, Gironde\, 33340\, France
CATEGORIES:Vide grenier
ATTACH;FMTTYPE=image/png:https://medias.lesparre-medoc.fr/Affiche-vide-grenier-17-mai-2025-Bandeau.png
ORGANIZER;CN="Les Amis de la Tour":MAILTO:amisdelatour@gmail.com
END:VEVENT
BEGIN:VEVENT
DTSTART;TZID=Europe/Paris:20250524T080000
DTEND;TZID=Europe/Paris:20250524T180000
DTSTAMP:20260424T014142
CREATED:20250506T135431Z
LAST-MODIFIED:20250506T135431Z
UID:28990-1748073600-1748109600@www.lesparre-medoc.fr
SUMMARY:Fête de l'Europe
DESCRIPTION:
URL:https://www.lesparre-medoc.fr/evenement/fete-de-leurope/
CATEGORIES:Concert,Sport,Vide grenier
ATTACH;FMTTYPE=image/jpeg:https://medias.lesparre-medoc.fr/2025.05.24-Fete-de-lEurope_v3-Bandeau.jpg
END:VEVENT
BEGIN:VEVENT
DTSTART;TZID=Europe/Paris:20250524T193000
DTEND;TZID=Europe/Paris:20250524T193000
DTSTAMP:20260424T014142
CREATED:20250422T131028Z
LAST-MODIFIED:20250506T133156Z
UID:28859-1748115000-1748115000@www.lesparre-medoc.fr
SUMMARY:Concert & Tapas - "Whiskey Paradis"
DESCRIPTION:
URL:https://www.lesparre-medoc.fr/evenement/concert-tapas-whiskey-paradis/
LOCATION:CALM\, 7 rue de Gramont\, LESPARRE MEDOC\, Gironde\, 33340\, France
CATEGORIES:Concert
ATTACH;FMTTYPE=image/jpeg:https://medias.lesparre-medoc.fr/Whiskey_Paradis_option2-scaled.jpg
ORGANIZER;CN="CALM - Centre d'Animations Lesparre-M%C3%A9doc":MAILTO:lecalm33340@gmail.com
END:VEVENT
BEGIN:VEVENT
DTSTART;VALUE=DATE:20250527
DTEND;VALUE=DATE:20250602
DTSTAMP:20260424T014142
CREATED:20250523T090116Z
LAST-MODIFIED:20250523T090116Z
UID:29106-1748304000-1748822399@www.lesparre-medoc.fr
SUMMARY:Saint Trélody en Fête
DESCRIPTION:
URL:https://www.lesparre-medoc.fr/evenement/saint-trelody-en-fete/
CATEGORIES:Brocante,Vide grenier
ATTACH;FMTTYPE=image/jpeg:https://medias.lesparre-medoc.fr/Saint-Trelody-en-Fete-2025-Bandeau.jpg
END:VEVENT
END:VCALENDAR