BEGIN:VCALENDAR
VERSION:2.0
PRODID:-//Portail Officiel de la Ville de Lesparre-Médoc - ECPv6.15.20//NONSGML v1.0//EN
CALSCALE:GREGORIAN
METHOD:PUBLISH
X-WR-CALNAME:Portail Officiel de la Ville de Lesparre-Médoc
X-ORIGINAL-URL:https://www.lesparre-medoc.fr
X-WR-CALDESC:Évènements pour Portail Officiel de la Ville de Lesparre-Médoc
REFRESH-INTERVAL;VALUE=DURATION:PT1H
X-Robots-Tag:noindex
X-PUBLISHED-TTL:PT1H
BEGIN:VTIMEZONE
TZID:Europe/Paris
BEGIN:DAYLIGHT
TZOFFSETFROM:+0100
TZOFFSETTO:+0200
TZNAME:CEST
DTSTART:20240331T010000
END:DAYLIGHT
BEGIN:STANDARD
TZOFFSETFROM:+0200
TZOFFSETTO:+0100
TZNAME:CET
DTSTART:20241027T010000
END:STANDARD
BEGIN:DAYLIGHT
TZOFFSETFROM:+0100
TZOFFSETTO:+0200
TZNAME:CEST
DTSTART:20250330T010000
END:DAYLIGHT
BEGIN:STANDARD
TZOFFSETFROM:+0200
TZOFFSETTO:+0100
TZNAME:CET
DTSTART:20251026T010000
END:STANDARD
BEGIN:DAYLIGHT
TZOFFSETFROM:+0100
TZOFFSETTO:+0200
TZNAME:CEST
DTSTART:20260329T010000
END:DAYLIGHT
BEGIN:STANDARD
TZOFFSETFROM:+0200
TZOFFSETTO:+0100
TZNAME:CET
DTSTART:20261025T010000
END:STANDARD
END:VTIMEZONE
BEGIN:VEVENT
DTSTART;TZID=Europe/Paris:20250703T150000
DTEND;TZID=Europe/Paris:20250703T184500
DTSTAMP:20260423T231347
CREATED:20250610T131552Z
LAST-MODIFIED:20250610T131552Z
UID:29251-1751554800-1751568300@www.lesparre-medoc.fr
SUMMARY:Don du sang
DESCRIPTION:
URL:https://www.lesparre-medoc.fr/evenement/don-du-sang-3/
LOCATION:Salle des fêtes Saint Trélody\, Rue Jean Fourment\, Lesparre Médoc\, Gironde\, 33340\, France
CATEGORIES:Don du sang
ATTACH;FMTTYPE=image/png:https://medias.lesparre-medoc.fr/web_lesparre_bandeau-1.png
END:VEVENT
BEGIN:VEVENT
DTSTART;TZID=Europe/Paris:20250712T200000
DTEND;TZID=Europe/Paris:20250712T200000
DTSTAMP:20260423T231347
CREATED:20250707T080914Z
LAST-MODIFIED:20250707T081111Z
UID:29403-1752350400-1752350400@www.lesparre-medoc.fr
SUMMARY:Cirque Roger Lanzac
DESCRIPTION:
URL:https://www.lesparre-medoc.fr/evenement/cirque-roger-lanzac-12-07-2025/
LOCATION:Parking Centrakor\, ZAC de Belloc\, 20 rue des Forgerons\, Lesparre Médoc\, Gironde\, 33340\, France
CATEGORIES:Cirque
ATTACH;FMTTYPE=image/jpeg:https://medias.lesparre-medoc.fr/Cirque-Lesparre-Juillet-2025-Bandeau.jpeg
END:VEVENT
BEGIN:VEVENT
DTSTART;TZID=Europe/Paris:20250713T180000
DTEND;TZID=Europe/Paris:20250713T180000
DTSTAMP:20260423T231347
CREATED:20250707T081349Z
LAST-MODIFIED:20250707T081430Z
UID:29408-1752429600-1752429600@www.lesparre-medoc.fr
SUMMARY:Cirque Roger Lanzac
DESCRIPTION:
URL:https://www.lesparre-medoc.fr/evenement/cirque-roger-lanzac-13-07-2025/
LOCATION:Parking Centrakor\, ZAC de Belloc\, 20 rue des Forgerons\, Lesparre Médoc\, Gironde\, 33340\, France
CATEGORIES:Cirque
ATTACH;FMTTYPE=image/jpeg:https://medias.lesparre-medoc.fr/Cirque-Lesparre-Juillet-2025-Bandeau.jpeg
END:VEVENT
BEGIN:VEVENT
DTSTART;TZID=Europe/Paris:20250714T103000
DTEND;TZID=Europe/Paris:20250714T103000
DTSTAMP:20260423T231347
CREATED:20250701T124957Z
LAST-MODIFIED:20250701T125038Z
UID:29372-1752489000-1752489000@www.lesparre-medoc.fr
SUMMARY:Défilé du 14 Juillet
DESCRIPTION:
URL:https://www.lesparre-medoc.fr/evenement/defile-du-14-juillet/
CATEGORIES:Cérémonie
ATTACH;FMTTYPE=image/jpeg:https://medias.lesparre-medoc.fr/359819753_10230267832017523_8881955978072531616_n.jpg
END:VEVENT
BEGIN:VEVENT
DTSTART;TZID=Europe/Paris:20250715T200000
DTEND;TZID=Europe/Paris:20250715T200000
DTSTAMP:20260423T231347
CREATED:20250707T081616Z
LAST-MODIFIED:20250707T081708Z
UID:29410-1752609600-1752609600@www.lesparre-medoc.fr
SUMMARY:Cirque Roger Lanzac
DESCRIPTION:
URL:https://www.lesparre-medoc.fr/evenement/cirque-roger-lanzac-15-07-2025/
LOCATION:Parking Centrakor\, ZAC de Belloc\, 20 rue des Forgerons\, Lesparre Médoc\, Gironde\, 33340\, France
CATEGORIES:Cirque
ATTACH;FMTTYPE=image/jpeg:https://medias.lesparre-medoc.fr/Cirque-Lesparre-Juillet-2025-Bandeau.jpeg
END:VEVENT
BEGIN:VEVENT
DTSTART;TZID=Europe/Paris:20250716T103000
DTEND;TZID=Europe/Paris:20250716T103000
DTSTAMP:20260423T231347
CREATED:20250707T081847Z
LAST-MODIFIED:20250707T081933Z
UID:29412-1752661800-1752661800@www.lesparre-medoc.fr
SUMMARY:Cirque Roger Lanzac
DESCRIPTION:
URL:https://www.lesparre-medoc.fr/evenement/cirque-roger-lanzac-16-07-2025/
LOCATION:Parking Centrakor\, ZAC de Belloc\, 20 rue des Forgerons\, Lesparre Médoc\, Gironde\, 33340\, France
CATEGORIES:Cirque
ATTACH;FMTTYPE=image/jpeg:https://medias.lesparre-medoc.fr/Cirque-Lesparre-Juillet-2025-Bandeau.jpeg
END:VEVENT
BEGIN:VEVENT
DTSTART;TZID=Europe/Paris:20250722T220000
DTEND;TZID=Europe/Paris:20250722T220000
DTSTAMP:20260423T231347
CREATED:20250701T124546Z
LAST-MODIFIED:20250701T124635Z
UID:29368-1753221600-1753221600@www.lesparre-medoc.fr
SUMMARY:Cinéma plein air "Le Monde de Némo"
DESCRIPTION:
URL:https://www.lesparre-medoc.fr/evenement/cinema-plein-air-le-monde-de-nemo/
LOCATION:CALM\, 7 rue de Gramont\, LESPARRE MEDOC\, Gironde\, 33340\, France
CATEGORIES:Cinéma,Jeunesse
ATTACH;FMTTYPE=image/jpeg:https://medias.lesparre-medoc.fr/nemo.jpg
END:VEVENT
END:VCALENDAR