BEGIN:VCALENDAR
VERSION:2.0
PRODID:-//Portail Officiel de la Ville de Lesparre-Médoc - ECPv6.15.20//NONSGML v1.0//EN
CALSCALE:GREGORIAN
METHOD:PUBLISH
X-ORIGINAL-URL:https://www.lesparre-medoc.fr
X-WR-CALDESC:Évènements pour Portail Officiel de la Ville de Lesparre-Médoc
REFRESH-INTERVAL;VALUE=DURATION:PT1H
X-Robots-Tag:noindex
X-PUBLISHED-TTL:PT1H
BEGIN:VTIMEZONE
TZID:Europe/Paris
BEGIN:DAYLIGHT
TZOFFSETFROM:+0100
TZOFFSETTO:+0200
TZNAME:CEST
DTSTART:20240331T010000
END:DAYLIGHT
BEGIN:STANDARD
TZOFFSETFROM:+0200
TZOFFSETTO:+0100
TZNAME:CET
DTSTART:20241027T010000
END:STANDARD
BEGIN:DAYLIGHT
TZOFFSETFROM:+0100
TZOFFSETTO:+0200
TZNAME:CEST
DTSTART:20250330T010000
END:DAYLIGHT
BEGIN:STANDARD
TZOFFSETFROM:+0200
TZOFFSETTO:+0100
TZNAME:CET
DTSTART:20251026T010000
END:STANDARD
BEGIN:DAYLIGHT
TZOFFSETFROM:+0100
TZOFFSETTO:+0200
TZNAME:CEST
DTSTART:20260329T010000
END:DAYLIGHT
BEGIN:STANDARD
TZOFFSETFROM:+0200
TZOFFSETTO:+0100
TZNAME:CET
DTSTART:20261025T010000
END:STANDARD
END:VTIMEZONE
BEGIN:VEVENT
DTSTART;TZID=Europe/Paris:20250801T193000
DTEND;TZID=Europe/Paris:20250801T193000
DTSTAMP:20260423T215653
CREATED:20250701T125530Z
LAST-MODIFIED:20250701T125806Z
UID:29376-1754076600-1754076600@www.lesparre-medoc.fr
SUMMARY:Bal des pompiers
DESCRIPTION:
URL:https://www.lesparre-medoc.fr/evenement/bal-des-pompiers/
LOCATION:Caserne des pompiers\, Lesparre-Médoc\, 33340\, France
CATEGORIES:Bal
ATTACH;FMTTYPE=image/jpeg:https://medias.lesparre-medoc.fr/Bal-des-pompiers-2025-Bandeau.jpg
END:VEVENT
BEGIN:VEVENT
DTSTART;TZID=Europe/Paris:20250801T230000
DTEND;TZID=Europe/Paris:20250801T230000
DTSTAMP:20260423T215653
CREATED:20250701T130117Z
LAST-MODIFIED:20250701T130205Z
UID:29381-1754089200-1754089200@www.lesparre-medoc.fr
SUMMARY:Feu d'artifice
DESCRIPTION:
URL:https://www.lesparre-medoc.fr/evenement/feu-dartifice/
LOCATION:Caserne des pompiers\, Lesparre-Médoc\, 33340\, France
CATEGORIES:Feu d'artifice
ATTACH;FMTTYPE=image/jpeg:https://medias.lesparre-medoc.fr/2024.07.13-Feu-dartifice-Bandeau-1-scaled.jpg
ORGANIZER;CN="Mairie de Lesparre-M%C3%A9doc":MAILTO:lecalm33340@gmail.com
END:VEVENT
BEGIN:VEVENT
DTSTART;VALUE=DATE:20250808
DTEND;VALUE=DATE:20250811
DTSTAMP:20260423T215653
CREATED:20250701T130735Z
LAST-MODIFIED:20250701T130735Z
UID:29385-1754611200-1754870399@www.lesparre-medoc.fr
SUMMARY:Fête du Vin et de la Gastronomie
DESCRIPTION:
URL:https://www.lesparre-medoc.fr/evenement/fete-du-vin-et-de-la-gastronomie/
LOCATION:Tour de l’Honneur\, 17 Rue Pierre Curie\, Lesparre Médoc\, Gironde\, 33340\, France
CATEGORIES:Concert,Fête,Spectacle,Vide grenier
ATTACH;FMTTYPE=image/jpeg:https://medias.lesparre-medoc.fr/Foire-aux-vins-2025-Bandeau.jpg
END:VEVENT
BEGIN:VEVENT
DTSTART;VALUE=DATE:20250808
DTEND;VALUE=DATE:20250811
DTSTAMP:20260423T215653
CREATED:20250701T131114Z
LAST-MODIFIED:20250701T131114Z
UID:29389-1754611200-1754870399@www.lesparre-medoc.fr
SUMMARY:Salon Minéraux & Bien-être
DESCRIPTION:
URL:https://www.lesparre-medoc.fr/evenement/salon-mineraux-bien-etre/
LOCATION:Espace François Mitterrand\, Place Gambetta\, LESPARRE-MEDOC\, 33340
ATTACH;FMTTYPE=image/png:https://medias.lesparre-medoc.fr/Salon-Mineraux-2025-Bandeau.png
END:VEVENT
BEGIN:VEVENT
DTSTART;VALUE=DATE:20250823
DTEND;VALUE=DATE:20250825
DTSTAMP:20260423T215653
CREATED:20250701T131339Z
LAST-MODIFIED:20250701T131339Z
UID:29393-1755907200-1756079999@www.lesparre-medoc.fr
SUMMARY:Les Médiévales 2025
DESCRIPTION:
URL:https://www.lesparre-medoc.fr/evenement/les-medievales-2025/
LOCATION:Tour de l’Honneur\, 17 Rue Pierre Curie\, Lesparre Médoc\, Gironde\, 33340\, France
CATEGORIES:Fête
ATTACH;FMTTYPE=image/jpeg:https://medias.lesparre-medoc.fr/Medievales-2025-Bandeau.jpg
END:VEVENT
BEGIN:VEVENT
DTSTART;TZID=Europe/Paris:20250830T090000
DTEND;TZID=Europe/Paris:20250830T130000
DTSTAMP:20260423T215653
CREATED:20250804T074959Z
LAST-MODIFIED:20250804T074959Z
UID:29755-1756544400-1756558800@www.lesparre-medoc.fr
SUMMARY:Forum de la vie lesparraine
DESCRIPTION:
URL:https://www.lesparre-medoc.fr/evenement/forum-de-la-vie-lesparraine/
LOCATION:Espace François Mitterrand\, Place Gambetta\, LESPARRE-MEDOC\, 33340
CATEGORIES:Sport
ATTACH;FMTTYPE=image/jpeg:https://medias.lesparre-medoc.fr/Forum-de-la-Vie-Lesparraine-bandeau-sans-logo.jpg
ORGANIZER;CN="Mairie de Lesparre-M%C3%A9doc":MAILTO:lecalm33340@gmail.com
END:VEVENT
END:VCALENDAR