BEGIN:VCALENDAR
VERSION:2.0
PRODID:-//Portail Officiel de la Ville de Lesparre-Médoc - ECPv6.15.20//NONSGML v1.0//EN
CALSCALE:GREGORIAN
METHOD:PUBLISH
X-ORIGINAL-URL:https://www.lesparre-medoc.fr
X-WR-CALDESC:Évènements pour Portail Officiel de la Ville de Lesparre-Médoc
REFRESH-INTERVAL;VALUE=DURATION:PT1H
X-Robots-Tag:noindex
X-PUBLISHED-TTL:PT1H
BEGIN:VTIMEZONE
TZID:Europe/Paris
BEGIN:DAYLIGHT
TZOFFSETFROM:+0100
TZOFFSETTO:+0200
TZNAME:CEST
DTSTART:20240331T010000
END:DAYLIGHT
BEGIN:STANDARD
TZOFFSETFROM:+0200
TZOFFSETTO:+0100
TZNAME:CET
DTSTART:20241027T010000
END:STANDARD
BEGIN:DAYLIGHT
TZOFFSETFROM:+0100
TZOFFSETTO:+0200
TZNAME:CEST
DTSTART:20250330T010000
END:DAYLIGHT
BEGIN:STANDARD
TZOFFSETFROM:+0200
TZOFFSETTO:+0100
TZNAME:CET
DTSTART:20251026T010000
END:STANDARD
BEGIN:DAYLIGHT
TZOFFSETFROM:+0100
TZOFFSETTO:+0200
TZNAME:CEST
DTSTART:20260329T010000
END:DAYLIGHT
BEGIN:STANDARD
TZOFFSETFROM:+0200
TZOFFSETTO:+0100
TZNAME:CET
DTSTART:20261025T010000
END:STANDARD
END:VTIMEZONE
BEGIN:VEVENT
DTSTART;TZID=Europe/Paris:20250904T180000
DTEND;TZID=Europe/Paris:20250904T180000
DTSTAMP:20260423T202822
CREATED:20250828T074439Z
LAST-MODIFIED:20250828T074530Z
UID:29889-1757008800-1757008800@www.lesparre-medoc.fr
SUMMARY:Moment musical autour de l'Orgue Wenner
DESCRIPTION:Les amis de l’orgue Wenner et de l’église Notre Dame de Lesparre organisent une manifestation autour de l’orgue sous forme d’un moment musical de 45 minutes suivi de la visite de l’instrument. \nPierre Lauroua organiste interprétera des œuvres classiques\, accompagnera Marie Madeleine Deliac violoniste\, Patrick Sautarel jouera des œuvres contemporaines adaptées à l’orgue. \nEntrée gratuite.
URL:https://www.lesparre-medoc.fr/evenement/moment-musical-autour-de-lorgue-wenner/
LOCATION:Eglise Notre-Dame de L’Assomption\, Lesparre-Médoc\, 33340
CATEGORIES:Concert
ATTACH;FMTTYPE=image/jpeg:https://medias.lesparre-medoc.fr/orgue_wenner.jpg
END:VEVENT
BEGIN:VEVENT
DTSTART;VALUE=DATE:20250906
DTEND;VALUE=DATE:20250907
DTSTAMP:20260423T202822
CREATED:20250904T080049Z
LAST-MODIFIED:20250904T080049Z
UID:29923-1757116800-1757203199@www.lesparre-medoc.fr
SUMMARY:Marathon des Châteaux du Médoc
DESCRIPTION:
URL:https://www.lesparre-medoc.fr/evenement/marathon-des-chateaux-du-medoc/
CATEGORIES:Sport
ATTACH;FMTTYPE=image/jpeg:https://medias.lesparre-medoc.fr/Marathon-Medoc.jpg
END:VEVENT
BEGIN:VEVENT
DTSTART;TZID=Europe/Paris:20250906T090000
DTEND;TZID=Europe/Paris:20250907T180000
DTSTAMP:20260423T202822
CREATED:20250829T093417Z
LAST-MODIFIED:20250829T093417Z
UID:29896-1757149200-1757268000@www.lesparre-medoc.fr
SUMMARY:Bourse Multi collection
DESCRIPTION:
URL:https://www.lesparre-medoc.fr/evenement/bourse-multi-collection/
LOCATION:Salle des fêtes Saint Trélody\, Rue Jean Fourment\, Lesparre Médoc\, Gironde\, 33340\, France
CATEGORIES:Vide grenier
ATTACH;FMTTYPE=image/png:https://medias.lesparre-medoc.fr/LLCC-Bourse-Multi-Collection-Bandeau.png
END:VEVENT
BEGIN:VEVENT
DTSTART;TZID=Europe/Paris:20250906T110000
DTEND;TZID=Europe/Paris:20250906T123000
DTSTAMP:20260423T202822
CREATED:20250812T123243Z
LAST-MODIFIED:20250812T123322Z
UID:29847-1757156400-1757161800@www.lesparre-medoc.fr
SUMMARY:Cérémonie d'accueil des nouveaux arrivants
DESCRIPTION:
URL:https://www.lesparre-medoc.fr/evenement/ceremonie-daccueil-des-nouveaux-arrivants/
CATEGORIES:Cérémonie
ATTACH;FMTTYPE=image/jpeg:https://medias.lesparre-medoc.fr/2024.10.05-Accueil-des-nouveaux-arrivants-Bandeau-1-scaled.jpg
END:VEVENT
BEGIN:VEVENT
DTSTART;TZID=Europe/Paris:20250911T200000
DTEND;TZID=Europe/Paris:20250911T200000
DTSTAMP:20260423T202822
CREATED:20250904T074620Z
LAST-MODIFIED:20250904T074707Z
UID:29914-1757620800-1757620800@www.lesparre-medoc.fr
SUMMARY:Journée Nationale d'Action contre l'Illettrisme
DESCRIPTION:
URL:https://www.lesparre-medoc.fr/evenement/journee-nationale-daction-contre-lillettrisme/
LOCATION:Cinéma Jean Dujardin\, 20 Rue du Palais de Justice\, Lesparre-Médoc\, 33340
CATEGORIES:Cinéma,Sensibilisation
ATTACH;FMTTYPE=image/png:https://medias.lesparre-medoc.fr/logo_lesparre-HD.png
END:VEVENT
BEGIN:VEVENT
DTSTART;TZID=Europe/Paris:20250912T100000
DTEND;TZID=Europe/Paris:20250913T180000
DTSTAMP:20260423T202822
CREATED:20250904T080707Z
LAST-MODIFIED:20250904T080707Z
UID:29926-1757671200-1757786400@www.lesparre-medoc.fr
SUMMARY:Forum des métiers en uniforme
DESCRIPTION:
URL:https://www.lesparre-medoc.fr/evenement/forum-des-metiers-en-uniforme/
CATEGORIES:emploi
ATTACH;FMTTYPE=application/pdf:https://medias.lesparre-medoc.fr/Affiche-A3-Forum-des-metiers-en-uniforme-2025.pdf
END:VEVENT
BEGIN:VEVENT
DTSTART;VALUE=DATE:20250927
DTEND;VALUE=DATE:20250929
DTSTAMP:20260423T202822
CREATED:20250916T131749Z
LAST-MODIFIED:20250916T131749Z
UID:30023-1758931200-1759103999@www.lesparre-medoc.fr
SUMMARY:AQUITEC PostBAC 2025
DESCRIPTION:Planning des conférences.pdf
URL:https://www.lesparre-medoc.fr/evenement/aquitec-postbac-2025/
ATTACH;FMTTYPE=image/png:https://medias.lesparre-medoc.fr/PB-1200-X-1200.png
END:VEVENT
BEGIN:VEVENT
DTSTART;TZID=Europe/Paris:20250927T203000
DTEND;TZID=Europe/Paris:20250927T203000
DTSTAMP:20260423T202822
CREATED:20250904T091640Z
LAST-MODIFIED:20250904T091933Z
UID:29939-1759005000-1759005000@www.lesparre-medoc.fr
SUMMARY:Théâtre des Salinières « Les Amazones »
DESCRIPTION:
URL:https://www.lesparre-medoc.fr/evenement/theatre-des-salinieres-les-amazones/
LOCATION:Espace François Mitterrand\, Place Gambetta\, LESPARRE-MEDOC\, 33340
CATEGORIES:Théâtre
ATTACH;FMTTYPE=image/jpeg:https://medias.lesparre-medoc.fr/Logo_Theatre-des-Salinieres-1.jpg
END:VEVENT
BEGIN:VEVENT
DTSTART;TZID=Europe/Paris:20250930T090000
DTEND;TZID=Europe/Paris:20250930T163000
DTSTAMP:20260423T202822
CREATED:20250912T083240Z
LAST-MODIFIED:20250912T083240Z
UID:29974-1759222800-1759249800@www.lesparre-medoc.fr
SUMMARY:Job Dating Inversé
DESCRIPTION:
URL:https://www.lesparre-medoc.fr/evenement/job-dating-inverse/
LOCATION:Tour de l’Honneur\, 17 Rue Pierre Curie\, Lesparre Médoc\, Gironde\, 33340\, France
CATEGORIES:emploi
ATTACH;FMTTYPE=image/jpeg:https://medias.lesparre-medoc.fr/Affiche-job-dating-inverse_VD-Bandeau.jpg
END:VEVENT
END:VCALENDAR